BEGIN:VCALENDAR
VERSION:2.0
PRODID:-//Tukios.com/
BEGIN:VEVENT
UID:e10d874b-ed6a-469d-a10f-3424ea202ef6@www.efscares.com
DTSTAMP:20260423T223742Z
DTSTART:20260428T170000Z
DTEND:20260428T180000Z
SUMMARY:Mass
DESCRIPTION:
URL:https://www.efscares.com/obituaries/maria-herrera-ochoa
LOCATION:St. John's Catholic Church 540 N. Third Street  King City CA 
	93930
GEO:36.2176857;-121.1298418
END:VEVENT
END:VCALENDAR