BEGIN:VCALENDAR
VERSION:2.0
PRODID:-//Tukios.com/
BEGIN:VEVENT
UID:082db536-a86c-4316-8350-ea2b3afeff0f@www.efscares.com
DTSTAMP:20260423T223542Z
DTSTART:20260428T010000Z
DTEND:20260428T020000Z
SUMMARY:Rosary
DESCRIPTION:
URL:https://www.efscares.com/obituaries/maria-herrera-ochoa
LOCATION:St. John's Catholic Church 504 N. Third Street  King City CA 
	93930
GEO:36.2173893;-121.1295723
END:VEVENT
END:VCALENDAR