BEGIN:VCALENDAR
VERSION:2.0
PRODID:-//Tukios.com/
BEGIN:VEVENT
UID:5b6142d5-be94-4855-802c-60a9f984c8a5@www.efscares.com
DTSTAMP:20260423T223350Z
DTSTART:20260428T000000Z
DTEND:20260428T010000Z
SUMMARY:Visitation
DESCRIPTION:
URL:https://www.efscares.com/obituaries/maria-herrera-ochoa
LOCATION: 504 North 3rd Street  King City CA 93930
GEO:36.2173893;-121.1295723
END:VEVENT
END:VCALENDAR