BEGIN:VCALENDAR
VERSION:2.0
PRODID:-//Tukios.com/
BEGIN:VEVENT
UID:12700f8f-25ac-4325-8df6-d71f105f9648@www.efscares.com
DTSTAMP:20260420T225909Z
DTSTART:20260501T170000Z
DTEND:20260501T180000Z
SUMMARY:Mass
DESCRIPTION:
URL:https://www.efscares.com/obituaries/loretta-tognetti
LOCATION: 504 North 3rd Street  King City CA 93930
GEO:36.2173893;-121.1295723
END:VEVENT
END:VCALENDAR