BEGIN:VCALENDAR
VERSION:2.0
PRODID:-//Tukios.com/
BEGIN:VEVENT
UID:95d37fff-7e8c-4e5f-b8d6-84302b969587@www.efscares.com
DTSTAMP:20260420T230136Z
DTSTART:20260501T183000Z
DTEND:20260501T193000Z
SUMMARY:Memorial Gathering
DESCRIPTION:
URL:https://www.efscares.com/obituaries/loretta-tognetti
LOCATION:St. John's Hall 506 North 3rd Street  King City CA 93930
GEO:36.2177;-121.1295942
END:VEVENT
END:VCALENDAR