BEGIN:VCALENDAR
VERSION:2.0
PRODID:-//Tukios.com/
BEGIN:VEVENT
UID:5cf507e1-2542-40dd-8185-94b36751e82f@www.efscares.com
DTSTAMP:20260420T225756Z
DTSTART:20260501T180000Z
DTEND:20260501T183000Z
SUMMARY:Graveside Service
DESCRIPTION:
URL:https://www.efscares.com/obituaries/loretta-tognetti
LOCATION: 1010 Broadway Street  King City CA 93930
GEO:36.2064821;-121.1370295
END:VEVENT
END:VCALENDAR