BEGIN:VCALENDAR
VERSION:2.0
PRODID:-//Tukios.com/
BEGIN:VEVENT
UID:e09999ff-0a6a-475e-8879-e489436bc9e4@www.efscares.com
DTSTAMP:20260424T224319Z
DTSTART:20260427T170000Z
DTEND:20260427T180000Z
SUMMARY:Mass
DESCRIPTION:
URL:https://www.efscares.com/obituaries/enrique-guzman-tellez
LOCATION:St. John's Catholic Church 504 North 3rd Street  King City CA 
	93930
GEO:36.2173893;-121.1295723
END:VEVENT
END:VCALENDAR