BEGIN:VCALENDAR
VERSION:2.0
PRODID:-//Tukios.com/
BEGIN:VEVENT
UID:ce9cc549-80e0-46ef-902e-8d7d72ee1888@www.efscares.com
DTSTAMP:20260424T224004Z
DTSTART:20260427T010000Z
DTEND:20260427T020000Z
SUMMARY:Rosary
DESCRIPTION:
URL:https://www.efscares.com/obituaries/enrique-guzman-tellez
LOCATION: 429 Bassett St  King City CA 93930
GEO:36.2105035;-121.1279214
END:VEVENT
END:VCALENDAR