BEGIN:VCALENDAR
VERSION:2.0
PRODID:-//Tukios.com/
BEGIN:VEVENT
UID:43a8bee6-a991-41cf-99b6-25a5a84e037e@www.efscares.com
DTSTAMP:20260424T224334Z
DTSTART:20260427T000000Z
DTEND:20260427T010000Z
SUMMARY:Visitation
DESCRIPTION:
URL:https://www.efscares.com/obituaries/enrique-guzman-tellez
LOCATION: 429 Bassett St  King City CA 93930
GEO:36.2105035;-121.1279214
END:VEVENT
END:VCALENDAR