BEGIN:VCALENDAR
VERSION:2.0
PRODID:-//Tukios.com/
BEGIN:VEVENT
UID:aa605a12-867e-4868-854d-dc29a75e35f3@www.efscares.com
DTSTAMP:20260421T184625Z
DTSTART:20260421T170000Z
DTEND:20260421T180000Z
SUMMARY:Mass
DESCRIPTION:
URL:https://www.efscares.com/obituaries/aurelio-aparicio
LOCATION: 504 North 3rd Street  King City CA 93930
GEO:36.2173893;-121.1295723
END:VEVENT
END:VCALENDAR